BEGIN:VCALENDAR
VERSION:2.0
PRODID:-//Hiša otrok in umetnosti - ECPv6.11.2.1//NONSGML v1.0//EN
CALSCALE:GREGORIAN
METHOD:PUBLISH
X-WR-CALNAME:Hiša otrok in umetnosti
X-ORIGINAL-URL:https://www.hisaotrok.si
X-WR-CALDESC:Dogodki za Hiša otrok in umetnosti
REFRESH-INTERVAL;VALUE=DURATION:PT1H
X-Robots-Tag:noindex
X-PUBLISHED-TTL:PT1H
BEGIN:VTIMEZONE
TZID:Europe/Ljubljana
BEGIN:DAYLIGHT
TZOFFSETFROM:+0100
TZOFFSETTO:+0200
TZNAME:CEST
DTSTART:20250330T010000
END:DAYLIGHT
BEGIN:STANDARD
TZOFFSETFROM:+0200
TZOFFSETTO:+0100
TZNAME:CET
DTSTART:20251026T010000
END:STANDARD
END:VTIMEZONE
BEGIN:VEVENT
DTSTART;TZID=Europe/Ljubljana:20250805T180000
DTEND;TZID=Europe/Ljubljana:20250805T193000
DTSTAMP:20260421T102120
CREATED:20250704T111152Z
LAST-MODIFIED:20250704T111241Z
UID:26985-1754416800-1754422200@www.hisaotrok.si
SUMMARY:PikniKoncert - Noreia
DESCRIPTION:PikniKoncert je družinsko srečanje ob dobri glasbi\, hrani in pijači. Je drugačna oblika preživljanja prostega časa\, saj ponuja kvalitetno kulturno doživetje v prepletu s sproščenim druženjem in ekološko ozaveščenostjo. Po uspešnih festivalskih poletjih v parku Tivoli koncerti zadnja leta potekajo na Grajski planoti\, natančneje v obrambnem jarku za obzidjem Ljubljanskega gradu. Vabimo vas\, da se popoldne umaknete poletni vročini\, se odpravite na Ljubljanski grad\, položite odejo za piknik\, se sprostite in kaj malega prigriznete in popijete ob poslušanju dobrih koncertov. Mi poskrbimo za odlično glasbo\, vi pa prinesite odeje in polne košare\, povabite prijatelje\, ne pozabite otrok\, igrač in psov ter dobre energije. \nNoreia je šestčlanska zasedba izkušenih glasbenikov\, ki preigravajo tradicionalne irske\, škotske in bretonske melodije\, a ne na povsem tradicionalen način. V zadnjem času skupina aktivno spaja »keltsko« tradicijo s svojo lastno dediščino – slovensko ljudsko glasbo ter ustvarja svoje lastne kompozicije\, kar njihovi glasbi daje unikaten in prepoznaven zvok. \nPo 4 letih od izida albuma Viže in dveh projektnih “živih” albumih (Kilt Roberta Burnsa – 2022 ter Nova Keltika – 2023)\, se domača etno zasedba Noreia vrača s svežim glasbenim izdelkom. Setev predstavlja nov ustvarjalni veter v razvoju skupine in široko odpira vrata prehajanju. Iz žalosti v veselje\, iz norosti v notranji mir\, preko epskih domišljijskih pokrajin do čarobnosti v plamenih ognjišča. \nZasedba:\nAna Novak – violina\, vokal\, klavir\nAnej Ivanuša – piščali\, lesena flavta\, bozuki\, vokal\nGašper Šinkovec – kitara\, mandola\, vokal\nRobert Bone – klarinet\, piščali\, klavir\, vokal\nJernej Vindšnurer – kontrabas\nPrimož Podobnik – bobni\, tolkala \nLOKACIJA: Ljubljanski grad – obrambni jarek\nVstop prost! V primeru slabega vremena bo prireditev prestavljena
URL:https://www.hisaotrok.si/dogodek/piknikoncert-noreia-2/
LOCATION:Ljubljanski grad – obrambni jarek\, Grajska planota 1\, Ljubljana\, 1000\, Slovenija
ATTACH;FMTTYPE=image/png:https://www.hisaotrok.si/wp-content/uploads/2025/07/noreia_slider.png
END:VEVENT
END:VCALENDAR