BEGIN:VCALENDAR
VERSION:2.0
PRODID:-//Hiša otrok in umetnosti - ECPv6.11.2.1//NONSGML v1.0//EN
CALSCALE:GREGORIAN
METHOD:PUBLISH
X-WR-CALNAME:Hiša otrok in umetnosti
X-ORIGINAL-URL:https://www.hisaotrok.si
X-WR-CALDESC:Dogodki za Hiša otrok in umetnosti
REFRESH-INTERVAL;VALUE=DURATION:PT1H
X-Robots-Tag:noindex
X-PUBLISHED-TTL:PT1H
BEGIN:VTIMEZONE
TZID:Europe/Ljubljana
BEGIN:DAYLIGHT
TZOFFSETFROM:+0100
TZOFFSETTO:+0200
TZNAME:CEST
DTSTART:20250330T010000
END:DAYLIGHT
BEGIN:STANDARD
TZOFFSETFROM:+0200
TZOFFSETTO:+0100
TZNAME:CET
DTSTART:20251026T010000
END:STANDARD
END:VTIMEZONE
BEGIN:VEVENT
DTSTART;TZID=Europe/Ljubljana:20250825T180000
DTEND;TZID=Europe/Ljubljana:20250827T190000
DTSTAMP:20260421T134220
CREATED:20250713T073208Z
LAST-MODIFIED:20250818T141211Z
UID:27024-1756144800-1756321200@www.hisaotrok.si
SUMMARY:Pravljice pod zvonikom
DESCRIPTION:Pravljice na način kamišibaj gledališča od leta 2017 poskrbijo za prijeten prehod iz počitnic v novo šolsko leto. S selitvijo po različnih prizoriščih spoznavamo Ljubljano iz različnih perspektiv. Letos se selimo v zavetje ljubljanskih zvonikov. Kamišibaj festival pod zvonikom ponuja edinstveno izkušnjo\, saj zgodbe prepleta z zgodovinskim in arhitekturnim pomenom lokacije ter ustvarja site-specific predstave\, prilagojene prav temu prostoru. \nponedeljek\, 25. avgust\, ob 18.00\n Park Slovenske reformacije pod zvonikom evangeličanske cerkve Primoža Trubarja \nPripovedujejo kamišibajkarji: Rok Glavan\, Joža Žuna\,Tatjana Grabrijan\, Enja Grabrijan \ntorek\, 26. avgust\, ob 18.00\npark Tabor pred gotsko cerkvijo Srca Jezusovega\n \nPripovedujejo kamišibajkarji: Jerca Cvetko\, Jure Engelsberger\, Irena Rajh\, Vanja Kretič \nsreda\, 27. avgust\, ob 18.00\nTrubarjev park ob pravoslavni cerkvi sv. Cirila in Metoda \nPripovedujejo kamišibajkarji: Breda in Darko Kočevar\, Maruša Pušnik\, Violeta Andjelić\, Dragica Ropret Žumer\, Urška Cvetko \nIzbor programa: Irena Rajh\nTehnična izvedba: Anže Virant\nFinančna podpora: Mestna občina Ljubljana\, Turizem Ljubljana\nProdukcija: Hiša otrok in umetnosti v sodelovanju z društvom Kamišibaj Slovenije
URL:https://www.hisaotrok.si/dogodek/pravljice-pod-zvonikom/
LOCATION:Več prizorišč\, Ljubljana\, 1000\, Slovenia
ATTACH;FMTTYPE=image/png:https://www.hisaotrok.si/wp-content/uploads/2024/01/slider_kamisibaj.png
END:VEVENT
END:VCALENDAR