BEGIN:VCALENDAR
VERSION:2.0
PRODID:-//Hiša otrok in umetnosti - ECPv6.11.2.1//NONSGML v1.0//EN
CALSCALE:GREGORIAN
METHOD:PUBLISH
X-WR-CALNAME:Hiša otrok in umetnosti
X-ORIGINAL-URL:https://www.hisaotrok.si
X-WR-CALDESC:Dogodki za Hiša otrok in umetnosti
REFRESH-INTERVAL;VALUE=DURATION:PT1H
X-Robots-Tag:noindex
X-PUBLISHED-TTL:PT1H
BEGIN:VTIMEZONE
TZID:Europe/Ljubljana
BEGIN:DAYLIGHT
TZOFFSETFROM:+0100
TZOFFSETTO:+0200
TZNAME:CEST
DTSTART:20250330T010000
END:DAYLIGHT
BEGIN:STANDARD
TZOFFSETFROM:+0200
TZOFFSETTO:+0100
TZNAME:CET
DTSTART:20251026T010000
END:STANDARD
END:VTIMEZONE
BEGIN:VEVENT
DTSTART;VALUE=DATE:20250925
DTEND;VALUE=DATE:20250929
DTSTAMP:20260421T102158
CREATED:20250827T105310Z
LAST-MODIFIED:20250919T104135Z
UID:27083-1758758400-1759103999@www.hisaotrok.si
SUMMARY:4. Vikend neodvisnega lutkovnega gledališča
DESCRIPTION:Vikend neodvisnega lutkovnega gledališča (VNLG) je prvi slovenski festival\, namenjen predstavitvi neinstitucionalne lutkovne scene. V štirih dneh se bodo zvrstile predstave za otroke in odrasle\, okrogla miza in festivalsko druženje. \nS srečanjem neodvisnih lutkovnih gledališč revitaliziramo nevladno lutkovno sceno v Sloveniji\, saj so neinstitucionalna lutkovna gledališča že nekaj let v zatonu\, kvantiteta predstav naglo upada. VNLG je tako postal letni dogodek\, ki deluje kot pregledni festival celotne slovenske neodvisne lutkovne scene s poudarkom na novih produkcijah ter prikazu neodvisnih gledališč tujim selektorjem. \nKot vsako leto ima festival tudi letos dobrodelno noto. Vsako leto podpremo organizicije\, ki po našem mnenju najbolj nujno potrebujejo pomoč. Letos smo se povezali z UNICEF Slovenija. \nNamesto vstopnine za predstave vas prosimo\, da pomagajte otrokom v Gazi z SMS donacijo. Pošljite SMS na 1919 s ključno besedo GAZA10.\n(SMS pogoji TUKAJ) \nZa obisk predstav so obvezne rezervacije vstopnic. Vse predstave so brezplačne.  \nčetrtek\, 25. 9. 2025\n18.00 Zavod Bufeto\, Lutkovno gledališče Nebo\, Zavod Carnica – MAJHEN PLAŠČ\,  9+\, 50 min \npetek\, 26. 9. 2025\n10.00 Pripovedno gledališče gdč. Bazilike\, HOU&DLU – KAKO OBJETI JEŽA\, 3+\, 40 min\n17.00 Mini teater – MALI PRINC\, 5+\,  50 min \nsobota\, 27. 9. 2025\n9.30 Hiša otrok in umetnosti & Lutkovno gledališče Fru- Fru – VELIK LONEC\, MAJHNA MIŠ\, 3+\, 30 min\n11.00 Lutkovno gledališče Zapik – ENA ZAJČJA …\, 3+\, 30 min\n16.00 Gledališče Lalanit – ŠIVILJA IN ŠKARJICE\, 3+\, 30 min\n18.00 Društvo Koruzno zrno\, Srednja šola Slovenska Bistrica – EJAJ\, 12+\, 25 min\n19.00 Lutkovno gledališče Nebo – SOBA\, 12+\, 30 min\n20.00 OKROGLA MIZA O STANJU NEODVISNEGA LUTKOVNEGA GLEDALIŠČA \nnedelja\, 28. 9. 2025\n9.30 Darka Erdelji – KRALJEVE URE\, 4+\, 30 min\n11.00 Aeiou gledališče\, Hiša otrok in umetnosti – USTVARIMO NAJ SVET\, 4+\, 40 min\n16.00 Zavod Godot – JAZ POČEPNEM\, TI POSKOČIŠ\, 4+\,  40 min\n19.00 Teater Moment\, Hiša otrok in umetnosti – SMRT IN MLEKO\, 15+\, 60 min
URL:https://www.hisaotrok.si/dogodek/4-vikend-neodvisnega-lutkovnega-gledalisca/
LOCATION:Hiša otrok in umetnosti\, Komenskega 9\, Ljubljana\, 1000\, Slovenija
ATTACH;FMTTYPE=image/png:https://www.hisaotrok.si/wp-content/uploads/2025/08/baner2025VNLG.png
END:VEVENT
BEGIN:VEVENT
DTSTART;TZID=Europe/Ljubljana:20250928T093000
DTEND;TZID=Europe/Ljubljana:20250928T100000
DTSTAMP:20260421T102158
CREATED:20250917T140456Z
LAST-MODIFIED:20250927T201153Z
UID:27125-1759051800-1759053600@www.hisaotrok.si
SUMMARY:Kraljeve ure - VNLG
DESCRIPTION:Vikend neodvisnega lutkovnega gledališča (VNLG) je festival\, namenjen predstavitvi neinstitucionalne lutkovne umetnosti v Sloveniji. Ponuja pregled aktualne produkcije in ustvarja prostor\, kjer se srečujejo ustvarjalci\, strokovna javnost ter občinstvo. Festival ob tem odpira tudi možnosti za stik s tujimi gosti in selektorji. \nKot vsako leto ima festival tudi letos dobrodelno noto. Vsako leto podpremo organizicije\, ki po našem mnenju najbolj nujno potrebujejo pomoč. Letos smo se povezali z UNICEF Slovenija. \nNamesto vstopnine za predstave vas prosimo\, da pomagajte otrokom v Gazi z SMS donacijo. Pošljite SMS na 1919 s ključno besedo GAZA10.\n(SMS pogoji TUKAJ) \nDarka Erdelji – Kraljeve ure \nV daljnem kraljestvu je živel kralj. Da bi ustavil staranje se je odločil upočasnit kraljeve ure. Toda prav vse v njegovem kraljestvu ima svoj\, točno določeni čas. Medtem\, ko popravlja storjeno škodo prebivalcem svojega kraljestva\, kralj spozna\, da je čas ena izmed najbolj skrivnostnih in neulovljivih dimenzij našega življenja. \nbrezplačno\, 3+\, 35′\, obvezne rezervacije brezplačnih vstopnic \nDarka Erdelji – režija\, scenografija\, izdelava lutk\, igra\, Polona Červek\, – producent\, rehnična podpora\, Chiafen Hsu – režija\, Metka Damjan dramaturgija\, Urška Cvetko – glasba\, Mitja Ritmanič\, Urban Stalinger\, – izdelava scene in lutk
URL:https://www.hisaotrok.si/dogodek/kraljeve-ure-vnlg/
LOCATION:Hiša otrok in umetnosti\, Komenskega 9\, Ljubljana\, 1000\, Slovenija
ATTACH;FMTTYPE=image/png:https://www.hisaotrok.si/wp-content/uploads/2025/09/kraljeve_ure_slider.png
END:VEVENT
BEGIN:VEVENT
DTSTART;TZID=Europe/Ljubljana:20250928T110000
DTEND;TZID=Europe/Ljubljana:20250928T120000
DTSTAMP:20260421T102158
CREATED:20250917T140443Z
LAST-MODIFIED:20250922T113557Z
UID:27127-1759057200-1759060800@www.hisaotrok.si
SUMMARY:Ustvarimo NAJ svet! - VNLG
DESCRIPTION:Vse vstopnice so že rezervirane\, lahko se vpišete na čakalni seznam (do zapolnitve). V primeru\, da se vstopnice sprostijo\, vas o tem obvestimo na vaš elektronski naslov. \nVikend neodvisnega lutkovnega gledališča (VNLG) je festival\, namenjen predstavitvi neinstitucionalne lutkovne umetnosti v Sloveniji. Ponuja pregled aktualne produkcije in ustvarja prostor\, kjer se srečujejo ustvarjalci\, strokovna javnost ter občinstvo. Festival ob tem odpira tudi možnosti za stik s tujimi gosti in selektorji. \nKot vsako leto ima festival tudi letos dobrodelno noto. Vsako leto podpremo organizicije\, ki po našem mnenju najbolj nujno potrebujejo pomoč. Letos smo se povezali z UNICEF Slovenija. \nNamesto vstopnine za predstave vas prosimo\, da pomagajte otrokom v Gazi z SMS donacijo. Pošljite SMS na 1919 s ključno besedo GAZA10.\n(SMS pogoji TUKAJ) \nAEIOU gledališče\, Hiša otrok in umetnosti – Ustvarimo NAJ svet! \nUstvarimo NAJ svet! je predstava o svetu\, ki je metafora za utopijo. “Naj” svet\, ki ga lahko primerjamo z rajem\, je idealen kraj\, je prostor domišljije\, prostor prispodob prihodnosti.\nPredstava Ustvarimo NAJ svet! nima klasične ločnice med odrom in avditorijem. Zasnovana je v skupnem prostoru. Otroci/gledalci\, skupaj z igralko\, soustvarjajo namišljen gledališko lutkovni svet. Z igrivimi gledališkimi intervencijami vzpodbuja gledalce (otroke) k ustvarjanju “naj” sveta. Svet\, ki ga zasnujejo\, je vsakokrat drugačen. Na podlagi njihovih interakcij\, igralka vodi skozi podobe ustvarjenega “naj” sveta. Te lutkovno igralske intervencije igralke so manjše improvizirane forme\, z delno vnaprej pripravljenim scenarijem. \nbrezplačno\, 4+\, 45′\, obvezne rezervacije vstopnic \nKoncept: Katja Kähkönen\, Mateja Ocepek\, Katja Povše\nRežija: Katja Kähkönen\, Katja Povše\, Mateja Ocepek\nDramaturško svetovanje: Špela Frlic\nZvočna podoba: Sanette Sevon\nLikovna zasnova in izdelava scene\, objektov: Mateja Ocepek\, Katja Kähkönen\nIzdelava kostuma: Katja Kähkönen\, Mateja Ocepek\nIzdelava scene: Uroš Mehle s.p.\nTehnik: Jur Kunaver\nIzvajalki in igralki: Katja Povše (Slovenija)\, Katja Kähkönen (Finska)\nProdukcija: AEIOU gledališče in Hiša otrok in umetnosti\nKoprodukcija:Kulturni center PiiPoo Finska
URL:https://www.hisaotrok.si/dogodek/ustvarimo-naj-svet-vnlg/
LOCATION:Hiša otrok in umetnosti\, Komenskega 9\, Ljubljana\, 1000\, Slovenija
ATTACH;FMTTYPE=image/png:https://www.hisaotrok.si/wp-content/uploads/2025/01/naj_svet_slider2.png
END:VEVENT
BEGIN:VEVENT
DTSTART;TZID=Europe/Ljubljana:20250928T160000
DTEND;TZID=Europe/Ljubljana:20250928T170000
DTSTAMP:20260421T102158
CREATED:20250917T140424Z
LAST-MODIFIED:20250923T100259Z
UID:27129-1759075200-1759078800@www.hisaotrok.si
SUMMARY:Jaz počepnem\, ti poskočiš -VNLG
DESCRIPTION:Vse vstopnice so že rezervirane\, lahko se vpišete na čakalni seznam (do zapolnitve). V primeru\, da se vstopnice sprostijo\, vas o tem obvestimo na vaš elektronski naslov. \nVikend neodvisnega lutkovnega gledališča (VNLG) je festival\, namenjen predstavitvi neinstitucionalne lutkovne umetnosti v Sloveniji. Ponuja pregled aktualne produkcije in ustvarja prostor\, kjer se srečujejo ustvarjalci\, strokovna javnost ter občinstvo. Festival ob tem odpira tudi možnosti za stik s tujimi gosti in selektorji. \nKot vsako leto ima festival tudi letos dobrodelno noto. Vsako leto podpremo organizicije\, ki po našem mnenju najbolj nujno potrebujejo pomoč. Letos smo se povezali z UNICEF Slovenija. \nNamesto vstopnine za predstave vas prosimo\, da pomagajte otrokom v Gazi z SMS donacijo. Pošljite SMS na 1919 s ključno besedo GAZA10.\n(SMS pogoji TUKAJ) \nKulturni zavod Godot – Jaz počepnem\, ti poskočiš \nPrva otroška gledališka burleska pri nas z naslovom Jaz počepnem\, ti poskočiš je nastala po navdihu starih črno belih filmov\, ki so brez besed\, le z močnim igralskim izrazom in razigrano glasbo pripovedovali čudovite zgodbe in navduševali množice.\nDramski igralec Tadej Pišek in igralka ter plesalka Mojca Špik nas v zabavni gibalni predstavi (skoraj) brez besed\, le z gibom\, glasbo\, igro in lutkami odpeljeta na zabavno popotovanje do iskanja sreče in prijatelstva. Kako hudo je\, kadar človek ostane čisto sam. In kako lepo je\, ko ti nekdo ponudi roko\, da lahko po svetu vandraš v dvoje. Včasih pa se nam prijatelj skrije ali pa smo tako zatopljeni vase\, da ga ne vidimo\, četudi stoji tik pred nami …\nZgodbo je navdihnila istoimenska pesem pesnice in pisateljice Anje Štefan\, avtorsko glasbo pa je napisal priznani skladatelj Marjan Peternel. \nbrezplačno\, 3+\, 35′\, obvezne rezervacije vstopnic \nigrata: Mojca Špik in Tadej Pišek\nrežija: Tadej Pišek\navtorska glasba: Marjan Peternel\nbesedilo zaključne pesmi: Anja Štefan\nizdelava scenografije: Anže Bizjak\nfotografije: Primož Klavs
URL:https://www.hisaotrok.si/dogodek/jaz-pocepnem-ti-poskocis-vnlg/
LOCATION:Hiša otrok in umetnosti\, Komenskega 9\, Ljubljana\, 1000\, Slovenija
ATTACH;FMTTYPE=image/png:https://www.hisaotrok.si/wp-content/uploads/2025/09/jaz_pocepnem_slider.png
END:VEVENT
BEGIN:VEVENT
DTSTART;TZID=Europe/Ljubljana:20250928T190000
DTEND;TZID=Europe/Ljubljana:20250928T200000
DTSTAMP:20260421T102158
CREATED:20250917T140327Z
LAST-MODIFIED:20250919T103612Z
UID:27132-1759086000-1759089600@www.hisaotrok.si
SUMMARY:Smrt in mleko - VNLG
DESCRIPTION:Vikend neodvisnega lutkovnega gledališča (VNLG) je festival\, namenjen predstavitvi neinstitucionalne lutkovne umetnosti v Sloveniji. Ponuja pregled aktualne produkcije in ustvarja prostor\, kjer se srečujejo ustvarjalci\, strokovna javnost ter občinstvo. Festival ob tem odpira tudi možnosti za stik s tujimi gosti in selektorji. \nKot vsako leto ima festival tudi letos dobrodelno noto. Vsako leto podpremo organizicije\, ki po našem mnenju najbolj nujno potrebujejo pomoč. Letos smo se povezali z UNICEF Slovenija. \nNamesto vstopnine za predstave vas prosimo\, da pomagajte otrokom v Gazi z SMS donacijo. Pošljite SMS na 1919 s ključno besedo GAZA10.\n(SMS pogoji TUKAJ) \nMoment\, Hiša otrok in umetnosti – Smrt in mleko \nTo ni predstava o smrti. To ni predstava o mami\, sinu in zlati ribici. To ni predstava o spominih iz otroštva. To ni predstava o motoristu\, ki je na cilj prispel prepozno in je z zamahom metuljevih kril povzročil povsem nov tornado. To ni predstava o oživljanju ponesrečencev\, čeprav ni rečeno\, da se tega ne boste naučili. To ni predstava o tem\, kaj bi bilo\, če bi bilo\, in kako lepo bi bilo\, če bi bilo tako. To ni predstava o strahu. To ni predstava o tem\, kako nevarni so lahko jeleni\, antilope in ostali sodoprsti kopitarji votlorogi. To ni predstava o božanstvih v belih haljah s čutom za reševanje človeštva. To ni predstava o dečku\, ki se igra z maminimi raketami odrešitve. To ni predstava o jabolčni piti na mizi\, za katero nikoli več ne bodo sedeli ti isti ljudje. To ni predstava o luči na koncu tunela. In meglicah\, ki se dvigajo iz reke pozabljanja. In neprekinjajočem piskajočem zvoku\, ki ne želi zapustiti ušesa. Smrt in mleko je. Je predstava. Je avtorski projekt in je kolektivno delo skupine\, ki preko zgodb\, podob in ubadanja s samim seboj raziskuje odnos do začetkov\, koncev in vsega\, kar smo pustili za sabo. \nbrezplačno\, 15+\, 60′\, obvezne rezervacije vstopnic \nAvtorski kolektiv: Luka Piletič\, Rok Kravanja\, Tilen Kožamelj\, Zoran Petrovič\, Tončica Knez\nRežija: Zoran Petrovič + kolektiv\nIgralci: Tilen Kožamelj\, Rok Kravanja\, Luka Piletič\nGlasba: Marko Lük\nVizualna podoba: Monika Pocrnjić\, Tončica Knez\, Andrej Firm\nSvetlobna instalacija: Marijan Josipović\nTehnično vodenje: Monika Pocrnjić / Jur Kunaver\nTehnična podpora: Andrej Firm\nFotografija: Andrej Firm\, Gregor Salobir\nProdukcija: Hiša otrok in umetnosti in Moment
URL:https://www.hisaotrok.si/dogodek/smrt-in-mleko-vnlg/
LOCATION:Hiša otrok in umetnosti\, Komenskega 9\, Ljubljana\, 1000\, Slovenija
ATTACH;FMTTYPE=image/png:https://www.hisaotrok.si/wp-content/uploads/2024/11/death_slider.png
END:VEVENT
END:VCALENDAR