BEGIN:VCALENDAR
VERSION:2.0
PRODID:-//Hiša otrok in umetnosti - ECPv6.11.2.1//NONSGML v1.0//EN
CALSCALE:GREGORIAN
METHOD:PUBLISH
X-ORIGINAL-URL:https://www.hisaotrok.si
X-WR-CALDESC:Dogodki za Hiša otrok in umetnosti
REFRESH-INTERVAL;VALUE=DURATION:PT1H
X-Robots-Tag:noindex
X-PUBLISHED-TTL:PT1H
BEGIN:VTIMEZONE
TZID:Europe/Ljubljana
BEGIN:DAYLIGHT
TZOFFSETFROM:+0100
TZOFFSETTO:+0200
TZNAME:CEST
DTSTART:20250330T010000
END:DAYLIGHT
BEGIN:STANDARD
TZOFFSETFROM:+0200
TZOFFSETTO:+0100
TZNAME:CET
DTSTART:20251026T010000
END:STANDARD
END:VTIMEZONE
BEGIN:VEVENT
DTSTART;TZID=Europe/Ljubljana:20251011T170000
DTEND;TZID=Europe/Ljubljana:20251011T173000
DTSTAMP:20260421T152703
CREATED:20250924T202914Z
LAST-MODIFIED:20251009T105916Z
UID:27722-1760202000-1760203800@www.hisaotrok.si
SUMMARY:Opičja uganka ali Mamica\, kje si?
DESCRIPTION:Predstava je razprodana\, čakalni seznam je poln. \nMala opica se izgubi in išče svojo mamico. Pri iskanju ji pomaga pisan metuljček. Pelje jo k slonu\, kači\, pajku\, žabi\, papigi in netopirju\, toda nobena od živali ni opičja mamica. “Saj mi nobena od živali ni podobna\,” joka mala opica. A tega metuljček ni vedel\, saj je bil prepričan\, da je pri opicah tako kot pri metuljih\, pri katerih niso njihovi otročički\, majhne kosmate gosenice\, prav nič podobni svojim pisanim letečim staršem. Mala opica pa je prav taka kot njena mamica in zdaj je ni več težko najti. \nPredstava ponuja odlično izhodišče za pogovor\, kaj se zgodi\, če se otrok izgubi\, in kako se iz gosenice razvije metulj. Uvrstila se je na 6. bienale Ustanove slovenskih lutkovnih ustvarjalcev v Mariboru 2011 in na mednarodni lutkovni festival v avstrijskem Welsu\, marca 2012. \nProdukcija: Lutkovno gledališče Fru-Fru in Hiša otrok in umetnosti \nZa otroke od 2. leta dalje\, 35′\, 5€/7 €\, obvezne rezervacije vstopnic
URL:https://www.hisaotrok.si/dogodek/opicja-uganka-ali-mamica-kje-si-2/
LOCATION:Hiša otrok in umetnosti\, Komenskega 9\, Ljubljana\, 1000\, Slovenija
ATTACH;FMTTYPE=image/png:https://www.hisaotrok.si/wp-content/uploads/2024/11/opicja_slider.png
END:VEVENT
END:VCALENDAR