BEGIN:VCALENDAR
VERSION:2.0
PRODID:-//Hiša otrok in umetnosti - ECPv6.11.2.1//NONSGML v1.0//EN
CALSCALE:GREGORIAN
METHOD:PUBLISH
X-WR-CALNAME:Hiša otrok in umetnosti
X-ORIGINAL-URL:https://www.hisaotrok.si
X-WR-CALDESC:Dogodki za Hiša otrok in umetnosti
REFRESH-INTERVAL;VALUE=DURATION:PT1H
X-Robots-Tag:noindex
X-PUBLISHED-TTL:PT1H
BEGIN:VTIMEZONE
TZID:Europe/Ljubljana
BEGIN:DAYLIGHT
TZOFFSETFROM:+0100
TZOFFSETTO:+0200
TZNAME:CEST
DTSTART:20260329T010000
END:DAYLIGHT
BEGIN:STANDARD
TZOFFSETFROM:+0200
TZOFFSETTO:+0100
TZNAME:CET
DTSTART:20261025T010000
END:STANDARD
END:VTIMEZONE
BEGIN:VEVENT
DTSTART;TZID=Europe/Ljubljana:20260208T100000
DTEND;TZID=Europe/Ljubljana:20260208T110000
DTSTAMP:20260421T152355
CREATED:20251225T085332Z
LAST-MODIFIED:20251225T154550Z
UID:28299-1770544800-1770548400@www.hisaotrok.si
SUMMARY:Mali kamišibajkar - delavnica ob slovenskem kulturnem prazniku
DESCRIPTION:Mali kamišibajka \n\nV pripovedni delavnici bodo udeleženci najprej slišali nekaj zgodb\, ki jih bo pripovedoval kamišibajkar\, da se spoznajo s samo formo in načinom pripovedovanja. Nato pa bodo glede na lastno izbrano ali izmišljeno zgodbo izdelali svoj mali kamišibaj ob pomoči izvajalca delavnice in kamišibajkarja\, ga predstavili in postali pravi mali kamišibajkarji. S tem bodo razvijali svojo ustvarjalnost ter sposobnosti pripovedovanja\, poslušanja\, nastopanja in medosebnih odnosov v skupini. Delavnica spada v sklop programov kulturno-umetnostne vzgoje Delavnice lepih umetnosti. \n\n\nZa otroke od 3. leta dalje\, 45′\, brezplačno\, obvezne rezervacije vstopnic
URL:https://www.hisaotrok.si/dogodek/mali-kamisibajkar-delavnica-ob-slovenskem-kulturnem-prazniku/
LOCATION:Hiša otrok in umetnosti\, Komenskega 9\, Ljubljana\, 1000\, Slovenija
ATTACH;FMTTYPE=image/png:https://www.hisaotrok.si/wp-content/uploads/2024/01/slider_kamisibaj.png
END:VEVENT
END:VCALENDAR