BEGIN:VCALENDAR
VERSION:2.0
PRODID:-//Hiša otrok in umetnosti - ECPv6.11.2.1//NONSGML v1.0//EN
CALSCALE:GREGORIAN
METHOD:PUBLISH
X-ORIGINAL-URL:https://www.hisaotrok.si
X-WR-CALDESC:Dogodki za Hiša otrok in umetnosti
REFRESH-INTERVAL;VALUE=DURATION:PT1H
X-Robots-Tag:noindex
X-PUBLISHED-TTL:PT1H
BEGIN:VTIMEZONE
TZID:Europe/Ljubljana
BEGIN:DAYLIGHT
TZOFFSETFROM:+0100
TZOFFSETTO:+0200
TZNAME:CEST
DTSTART:20260329T010000
END:DAYLIGHT
BEGIN:STANDARD
TZOFFSETFROM:+0200
TZOFFSETTO:+0100
TZNAME:CET
DTSTART:20261025T010000
END:STANDARD
END:VTIMEZONE
BEGIN:VEVENT
DTSTART;VALUE=DATE:20260323
DTEND;VALUE=DATE:20260329
DTSTAMP:20260421T172249
CREATED:20260315T212209Z
LAST-MODIFIED:20260319T205232Z
UID:28567-1774224000-1774742399@www.hisaotrok.si
SUMMARY:Hišni Kavč festival
DESCRIPTION:Tudi letos bo v dvorani Hiše otrok in umetnosti potekal Kavč festival. \nKavč festival 2025 bo potekal po celi Sloveniji od 23. do 28. marca. Zavzel bo 150 nekonvencionalnih in nekaj bolj konvencionalnih prizorišč v vseh večjih slovenskih mestih in na podeželju. V domove ter v druge prostore\, kjer se umetnost navadno ne odvija\, bo pripeljal več kot 125 skupin iz celega sveta. Od etna do jazza\, od performensa do lutkovnih predstav. Koordinacija 190 zasebnih ter 8 večernih javnih dogodkov poteka pod okriljem KD Matita\, Hiša otrok in umetnosti\, MCLU Koper\, Društvo ljubiteljev gradu Snežnik in KUD Plavajoči grad \nObvezne rezervacije brezplačnih vstopnic na spletni strani Kavč festivala.
URL:https://www.hisaotrok.si/dogodek/hisni-kavc-festival-3/
LOCATION:Hiša otrok in umetnosti\, Komenskega 9\, Ljubljana\, 1000\, Slovenija
ATTACH;FMTTYPE=image/png:https://www.hisaotrok.si/wp-content/uploads/2026/03/kavc-festival-2026.png
END:VEVENT
BEGIN:VEVENT
DTSTART;TZID=Europe/Ljubljana:20260325T173000
DTEND;TZID=Europe/Ljubljana:20260325T183000
DTSTAMP:20260421T172249
CREATED:20260319T202418Z
LAST-MODIFIED:20260319T202418Z
UID:28589-1774459800-1774463400@www.hisaotrok.si
SUMMARY:U!-BU? - Kavč festival
DESCRIPTION:Ždrek smo in v ždrek se povrnemo. Na presečišču političnega gledališča\, teatra objekta\, groteskne ždrekoperete in dadaističnega koncerta je v režiji Matije Solceta nastala nova gledališko-glasbena kompozicija po motivih slavne epopeje Alfreda Jarryja. Kralj Ubu danes ne potrebuje aktualizacije\, saj smo primorani amoralne\, izprijene\, požrešne\, presrane\, podrepne in pohlepne samozvane »kralje« prenašati na vsakem koraku. Za razliko od drame\, ki je konec 19. stoletja zaradi svoje kontroverznosti vnesla nemir v francosko družbo\, so v novi predstavi Teatra Matite besede postavljene v funkcijo zvočnih impulzov\, označevalcev in hkrati razdiralcev besedila\, ki se včasih sprevrže v lajež\, drugič v glasbo\, spet kdaj v prdo-simfonijo ali poetično masovno eksekucijo. V svet UBU-izma\, patafizike in ironične družbene kritike nas potegne peterica dadalitikov – igralcev\, glasbenikov\, animatorjev in samosvojih avtorjev –\, ki z nekaj straniščnimi ščetkami\, mimičnimi lutkami\, bobni\, klaviaturo\, basom\, tremi zadnjicami in dvema trebuhoma ubesedijo ter izvedejo to\, česar si danes želimo vsi: služiti idiotu. A »U?BU!« nas ne pusti uživati ob pogledu na perfektno animacijo ritne odprtine. Provocira nas tudi z interakcijo z drugimi deli telesa – da o psiholoških pritiskih na naše statusne simbole\, ideološke poglede ali religijo sploh ne govorimo. Tako kot se Ubu pri svojem delu poglobljeno loti vseh slojev prebivalstva\, se v predstavi ustvarjalci dotaknejo kritike vseh tem – izvzemši sebe\, saj vedo\, da so na svojem področju največji poznavalci. V to se lahko prepričate tudi sami na ekscentrično-dinamičnem kabaretu\, ki bo gledalca nenasilno in nedemokratično prepričal v svoj edini prav. Teater je mrtev! Živel teater! \nRežija\, glasba – Matija Solce; Vizualna podoba – Larisa Kazić; Igra – Filip Šebšajevič\, Tines Špik\, Miha Arh\, Miha Razdrih\, Matija Solce \nKavč festival 2026 bo potekal po celi Sloveniji od 23. do 28. marca. Zavzel bo 150 nekonvencionalnih in nekaj bolj konvencionalnih prizorišč v vseh večjih slovenskih mestih in na podeželju. V domove ter v druge prostore\, kjer se umetnost navadno ne odvija\, bo pripeljal več kot 125 skupin iz celega sveta. Od etna do jazza\, od performensa do lutkovnih predstav. Koordinacija 190 zasebnih ter 8 večernih javnih dogodkov poteka pod okriljem KD Matita\, Hiša otrok in umetnosti\, MCLU Koperi n KUD Plavajoči grad \nZa odrasle\, obvezne rezervacije brezplačnih vstopnic na spletni strani Kavč festivala.
URL:https://www.hisaotrok.si/dogodek/u-bu-kavc-festival/
LOCATION:Hiša otrok in umetnosti\, Komenskega 9\, Ljubljana\, 1000\, Slovenija
ATTACH;FMTTYPE=image/png:https://www.hisaotrok.si/wp-content/uploads/2026/03/u-bu-slider.png
END:VEVENT
END:VCALENDAR